BEGIN:VCALENDAR
VERSION:2.0
PRODID:-//Tennessee Baptist Mission Board - ECPv6.15.20//NONSGML v1.0//EN
CALSCALE:GREGORIAN
METHOD:PUBLISH
X-WR-CALNAME:Tennessee Baptist Mission Board
X-ORIGINAL-URL:https://tnbaptist.org
X-WR-CALDESC:Events for Tennessee Baptist Mission Board
REFRESH-INTERVAL;VALUE=DURATION:PT1H
X-Robots-Tag:noindex
X-PUBLISHED-TTL:PT1H
BEGIN:VTIMEZONE
TZID:UTC
BEGIN:STANDARD
TZOFFSETFROM:+0000
TZOFFSETTO:+0000
TZNAME:UTC
DTSTART:20250101T000000
END:STANDARD
END:VTIMEZONE
BEGIN:VTIMEZONE
TZID:America/Chicago
BEGIN:DAYLIGHT
TZOFFSETFROM:-0600
TZOFFSETTO:-0500
TZNAME:CDT
DTSTART:20250309T080000
END:DAYLIGHT
BEGIN:STANDARD
TZOFFSETFROM:-0500
TZOFFSETTO:-0600
TZNAME:CST
DTSTART:20251102T070000
END:STANDARD
BEGIN:DAYLIGHT
TZOFFSETFROM:-0600
TZOFFSETTO:-0500
TZNAME:CDT
DTSTART:20260308T080000
END:DAYLIGHT
BEGIN:STANDARD
TZOFFSETFROM:-0500
TZOFFSETTO:-0600
TZNAME:CST
DTSTART:20261101T070000
END:STANDARD
BEGIN:DAYLIGHT
TZOFFSETFROM:-0600
TZOFFSETTO:-0500
TZNAME:CDT
DTSTART:20270314T080000
END:DAYLIGHT
BEGIN:STANDARD
TZOFFSETFROM:-0500
TZOFFSETTO:-0600
TZNAME:CST
DTSTART:20271107T070000
END:STANDARD
END:VTIMEZONE
BEGIN:VEVENT
DTSTART;VALUE=DATE:20260508
DTEND;VALUE=DATE:20260510
DTSTAMP:20260419T125834
CREATED:20251101T004703Z
LAST-MODIFIED:20251216T042441Z
UID:6044-1778198400-1778371199@tnbaptist.org
SUMMARY:Off the Grid - Women Leadership Hike
DESCRIPTION:  \nExperience a two-day hike in the Great Smoky Mountains. You will spend one night at Carson Springs Baptist Conference Center and two meals and lunch Saturday. \nThe Andrews Bald hike is a 3.6-mile roundtrip\, moderate-difficulty trail in the Great Smoky Mountains National Park that starts at the Clingmans Dome parking lot. Hikers descend for the first 1.8 miles through a spruce-fir forest\, making the return trip uphill. The trail ends at a high-elevation grassy bald with scenic mountain views\, and is known for its wildflowers\, especially azaleas in the summer. \nMiddle Prong Trail is the best waterfall hike in the Smokies. The trail passes three major waterfalls\, in addition to numerous smaller falls\, cataracts and cascades. The trail begins at Lynn Camp Prong and the Thunderhead Prong\, at the point where the Middle Prong of the Little River officially begins. From the trailhead hikers will cross a metal footbridge over Lynn Camp Prong. Over the course of the first couple of miles you should keep an eye out for violets\, crested dwarf iris\, wood sorrel\, rue anemone\, foamflower\, toothwort and trilliums\, if you’re hiking in the spring and early summer months. \nAt four-tenths of a mile from the trailhead hikers will reach the Lower Lynn Camp Falls. This 35-foot\, multi-tiered waterfall is one of the more impressive falls in the park\, especially during the wetter months of the year. Indian Flats Falls\, will be your final destination on this hike. \nDuring this trip you will experience 2 days of beautiful scenery\, no cell phones and good fellowship with mission and ministry-minded women. For more information contact Kim Cruse @ kcruse@tnbaptist.org \n\nREGISTER ONLINE
URL:https://tnbaptist.org/event/off-the-grid-women-leadership-hike-5-08/
LOCATION:Carson Springs Baptist Conference Center\, 1120 Carson Springs Rd.\, Newport\, TN\, United States
CATEGORIES:Carson Springs,Church Leadership & Administration,Conference Centers,Discipleship,Missions & Ministry,Off the Grid,Woman's Missionary Union
ATTACH;FMTTYPE=image/webp:https://tnbaptist.org/wp-content/uploads/2025/10/off-the-grid711x400.webp
ORGANIZER;CN="Kim Cruse":MAILTO:kcruse@tnbaptist.org
END:VEVENT
BEGIN:VEVENT
DTSTART;VALUE=DATE:20260514
DTEND;VALUE=DATE:20260515
DTSTAMP:20260419T125834
CREATED:20260209T162838Z
LAST-MODIFIED:20260209T163000Z
UID:8249-1778716800-1778803199@tnbaptist.org
SUMMARY:Toronto Prayer Walking Mission Trip
DESCRIPTION:TN WMU Prayer Walking Mission Team to Toronto – May 14-18\, 2026\nTennessee WMU is sending a Prayer Walking Mission Team to Toronto\, Ontario\, Canada\, to serve alongside IMB missionaries. The team will prayer walk\, encourage missionaries and local leaders\, and assist in community engagement. \nRequirements: \n\nComplete IMB application (questionnaire\, 3 references\, confidentiality document\, background check – $25)\nAge 18+\nValid passport book (passport cards won’t work for air travel)\n\nCosts (paid by team members): \n\nAirfare to/from Toronto\nSubway travel\, lodging (4 nights)\, and meals\n\nWhy Toronto: \n\nOne of the world’s most diverse cities – Greater Toronto Area population: 6.5 million\, with over 50% foreign-born (vs. 12% in Nashville)\nOnly 3% evangelical population\nOver 2 million residents speak a primary language other than English: 410\,000 speak Chinese\, 100\,000+ Tagalog\, 56\,000 Arabic\nGrowing populations of Buddhism\, Islam\, Sikhism\, Hinduism\, Judaism\, and other world religions\nLargest Tibetan population outside Tibet\n\nStatistics only glimpse the reality. Each community visit and ministry opportunity reveals a city full of stories and needs. The entire world is represented in Toronto\, including people from countries we cannot enter\, making this mission work have potential global impact. \nIMB partners with the Canadian National Baptist Convention\, North American Mission Board\, and Send Relief to plant churches and train local organizations in evangelism and discipleship. \nContact: Vickie Anderson at vanderson@tnbaptist.org
URL:https://tnbaptist.org/event/toronto-prayer-walking-mission-trip/
LOCATION:Toronto\, Tornonto\, Ontario\, Canada
CATEGORIES:Missions & Ministry,Woman's Missionary Union
ATTACH;FMTTYPE=image/webp:https://tnbaptist.org/wp-content/uploads/2026/02/toronto-skyline-2210387463.webp
ORGANIZER;CN="Vickie Anderson":MAILTO:vanderson@tnbaptist.org
END:VEVENT
BEGIN:VEVENT
DTSTART;TZID=America/Chicago:20260520T110000
DTEND;TZID=America/Chicago:20260520T120000
DTSTAMP:20260419T125834
CREATED:20251218T030704Z
LAST-MODIFIED:20260119T200802Z
UID:7386-1779274800-1779278400@tnbaptist.org
SUMMARY:Great Commission Conversations -  Send Denver/Front Range
DESCRIPTION:Join us the third Wednesday of each month for a Great Commission Conversation via Zoom at 11:00am CST as we hear from international\, North American\, and state missionaries. \nThe virtual conversation will last approximately 30-45 minutes. After the live video conference meeting\, a recorded version of the meeting will be placed online for others to view. \nOn May 20\, 2026\, we will hear from a NAMB Send Denver/Front Range church planter.  \nREGISTER ONLINE
URL:https://tnbaptist.org/event/great-commission-conversations-send-denver-front-range-5-20/
LOCATION:Online Event
CATEGORIES:Missions & Ministry,Woman's Missionary Union
ATTACH;FMTTYPE=image/webp:https://tnbaptist.org/wp-content/uploads/2025/10/great-comm-conv711x400.webp
ORGANIZER;CN="Vickie Anderson":MAILTO:vanderson@tnbaptist.org
END:VEVENT
BEGIN:VEVENT
DTSTART;TZID=America/Chicago:20260617T110000
DTEND;TZID=America/Chicago:20260617T120000
DTSTAMP:20260419T125834
CREATED:20251218T031715Z
LAST-MODIFIED:20260119T200805Z
UID:7387-1781694000-1781697600@tnbaptist.org
SUMMARY:Great Commission Conversations - International Missions
DESCRIPTION:Join us the third Wednesday of each month for a Great Commission Conversation via Zoom at 11:00am CST as we hear from international\, North American\, and state missionaries. \nThe virtual conversation will last approximately 30-45 minutes. After the live video conference meeting\, a recorded version of the meeting will be placed online for others to view. \nOn June 17\, 2026\, we will hear from an IMB missionary. \nREGISTER ONLINE
URL:https://tnbaptist.org/event/great-commission-conversations-tennessee-missions-6-17/
LOCATION:Online Event
CATEGORIES:Missions & Ministry,Woman's Missionary Union
ATTACH;FMTTYPE=image/webp:https://tnbaptist.org/wp-content/uploads/2025/10/great-comm-conv711x400.webp
ORGANIZER;CN="Vickie Anderson":MAILTO:vanderson@tnbaptist.org
END:VEVENT
BEGIN:VEVENT
DTSTART;VALUE=DATE:20260620
DTEND;VALUE=DATE:20260621
DTSTAMP:20260419T125834
CREATED:20251211T015930Z
LAST-MODIFIED:20251211T015930Z
UID:6894-1781913600-1781999999@tnbaptist.org
SUMMARY:World Refugee Day
DESCRIPTION:World Refugee Day recognizes refugees across the world. Churches can observe this day by praying for people displaced by conflict and persecution and providing their congregations with opportunities to care for refugees in their community.
URL:https://tnbaptist.org/event/world-refugee-day/
LOCATION:Statewide\, TN\, United States
CATEGORIES:Missions & Ministry,Woman's Missionary Union
ATTACH;FMTTYPE=image/webp:https://tnbaptist.org/wp-content/uploads/2025/10/ph_wmu2.webp
ORGANIZER;CN="Vickie Anderson":MAILTO:vanderson@tnbaptist.org
END:VEVENT
BEGIN:VEVENT
DTSTART;VALUE=DATE:20260713
DTEND;VALUE=DATE:20260715
DTSTAMP:20260419T125834
CREATED:20260213T171613Z
LAST-MODIFIED:20260213T171613Z
UID:8340-1783900800-1784073599@tnbaptist.org
SUMMARY:Christian Job Corps (CJC) National Certification Training Levels 1 & 2
DESCRIPTION:Levels 1 and 2 Training\nDate: July 13-14\, 2026\nLocation: First Baptist Church\, 600 Governors Drive\, Huntsville\, AL 35801\nCost: $100 per person\nHow to register: CWJC/CMJC Training | Alabama WMU \nLEARN MORE \nRegistration Deadline: June 22\, 2026 \nQuestions? Contact Elaine Dickson – elainedickson310@gmail.com
URL:https://tnbaptist.org/event/christian-job-corps-cjc-national-certification-training-levels-1-2/
LOCATION:Huntsville First Baptist Church\, 600 Governors Drive\, Huntsville\, AL\, United States
CATEGORIES:Missions & Ministry,Woman's Missionary Union
ATTACH;FMTTYPE=image/webp:https://tnbaptist.org/wp-content/uploads/2026/02/cjc-cwjc-cmjc-logos.webp
ORGANIZER;CN="Vickie Anderson":MAILTO:vanderson@tnbaptist.org
END:VEVENT
BEGIN:VEVENT
DTSTART;TZID=UTC:20260715T110000
DTEND;TZID=UTC:20260715T120000
DTSTAMP:20260419T125834
CREATED:20260107T034547Z
LAST-MODIFIED:20260119T200814Z
UID:7487-1784113200-1784116800@tnbaptist.org
SUMMARY:Great Commission Conversations: North American Missions
DESCRIPTION:Join us the third Wednesday of each month for a Great Commission Conversation via Zoom at 11:00am CST as we hear from international\, North American\, and state missionaries. \nThe virtual conversation will last approximately 30-45 minutes. After the live video conference meeting\, a recorded version of the meeting will be placed online for others to view. \nOn July 15\, 2026\, we will hear from a NAMB missionary. \nREGISTER ONLINE
URL:https://tnbaptist.org/event/great-commission-conversations-north-american-missions-7-15/
LOCATION:Online Event
CATEGORIES:Missions & Ministry,Woman's Missionary Union
ATTACH;FMTTYPE=image/webp:https://tnbaptist.org/wp-content/uploads/2025/10/great-comm-conv711x400.webp
ORGANIZER;CN="Vickie Anderson":MAILTO:vanderson@tnbaptist.org
END:VEVENT
BEGIN:VEVENT
DTSTART;VALUE=DATE:20260801
DTEND;VALUE=DATE:20260901
DTSTAMP:20260419T125834
CREATED:20251211T013551Z
LAST-MODIFIED:20251211T015413Z
UID:6884-1785542400-1788220799@tnbaptist.org
SUMMARY:WMU Christmas in August
DESCRIPTION:Christmas in August provides a simple way you can directly help a North American missionary. Click the following link for more information: \nhttps://wmu.com/missions-discipleship/christmas-in-august/
URL:https://tnbaptist.org/event/wmu-christmas-in-august/
LOCATION:Statewide\, TN\, United States
CATEGORIES:Missions & Ministry,Woman's Missionary Union
ATTACH;FMTTYPE=image/webp:https://tnbaptist.org/wp-content/uploads/2025/10/christmas-pocket-watch-time.webp
ORGANIZER;CN="Vickie Anderson":MAILTO:vanderson@tnbaptist.org
END:VEVENT
BEGIN:VEVENT
DTSTART;TZID=UTC:20260819T110000
DTEND;TZID=UTC:20260819T120000
DTSTAMP:20260419T125834
CREATED:20260107T034558Z
LAST-MODIFIED:20260119T200817Z
UID:7488-1787137200-1787140800@tnbaptist.org
SUMMARY:Great Commission Conversations: Tennessee Missions
DESCRIPTION:Join us the third Wednesday of each month for a Great Commission Conversation via Zoom at 11:00am CST as we hear from international\, North American\, and state missionaries. \nThe virtual conversation will last approximately 30-45 minutes. After the live video conference meeting\, a recorded version of the meeting will be placed online for others to view. \nOn August 19\, 2026\, we will hear about missions in Tennessee.  \nREGISTER ONLINE
URL:https://tnbaptist.org/event/great-commission-conversations-tennessee-missions-8-19/
LOCATION:Online Event
CATEGORIES:Missions & Ministry,Woman's Missionary Union
ATTACH;FMTTYPE=image/webp:https://tnbaptist.org/wp-content/uploads/2025/10/great-comm-conv711x400.webp
ORGANIZER;CN="Vickie Anderson":MAILTO:vanderson@tnbaptist.org
END:VEVENT
BEGIN:VEVENT
DTSTART;VALUE=DATE:20260823
DTEND;VALUE=DATE:20260824
DTSTAMP:20260419T125834
CREATED:20260206T201342Z
LAST-MODIFIED:20260206T201342Z
UID:8217-1787443200-1787529599@tnbaptist.org
SUMMARY:Global Hunger Sunday
DESCRIPTION:Tennessee is one of the hungriest states in the country. Many people in our communities do not have enough to eat or lack the financial resources to buy adequate food for their households. On this Global Hunger Sunday\, as you give to the Global Hunger Relief offering through the Tennessee Baptist Mission Board\, you are helping to provide food for hungry families in Tennessee\, North America\, and around the world.
URL:https://tnbaptist.org/event/global-hunger-sunday/
LOCATION:Statewide\, TN\, United States
CATEGORIES:Missions & Ministry,Woman's Missionary Union
ATTACH;FMTTYPE=image/webp:https://tnbaptist.org/wp-content/uploads/2026/02/global-hunger-sunday.webp
ORGANIZER;CN="Vickie Anderson":MAILTO:vanderson@tnbaptist.org
END:VEVENT
BEGIN:VEVENT
DTSTART;VALUE=DATE:20260911
DTEND;VALUE=DATE:20260914
DTSTAMP:20260419T125834
CREATED:20260206T231100Z
LAST-MODIFIED:20260414T211635Z
UID:8234-1789084800-1789343999@tnbaptist.org
SUMMARY:Connection
DESCRIPTION:A weekend missions discipleship event for girls in grades 6–12\nBring your youth girls\, your daughter/granddaughter and a couple of her friends\, or just bring her! \nThe weekend is designed to mingle groups together so that no one will feel left out. \nWhat’s Included\n\nWorship\nBible teaching sessions\nGetting to know a missionary and the country/people she is reaching\nGames\nPrayer times\nBreakout sessions\nAnd more!\n\nThis Year’s Theme: GIFTED\nGIFTED is designed to help your girls see how God has uniquely gifted them to be involved\nin the Great Commission. They will gain an understanding of how their spiritual gifts\, personality\,\ninterests\, experiences\, and talents can be used for God’s kingdom! \nMore info coming soon!
URL:https://tnbaptist.org/event/connection/
LOCATION:Tennessee Tech University BCM\, 106 West 7th Street\, Cookeville\, TN
CATEGORIES:Children,Discipleship,Missions & Ministry,Woman's Missionary Union,Worship & Music,Youth
ATTACH;FMTTYPE=image/webp:https://tnbaptist.org/wp-content/uploads/2026/02/Connection2026_Gifted_1280x720.webp
ORGANIZER;CN="Kim Cruse":MAILTO:kcruse@tnbaptist.org
END:VEVENT
BEGIN:VEVENT
DTSTART;VALUE=DATE:20260913
DTEND;VALUE=DATE:20260921
DTSTAMP:20260419T125834
CREATED:20251211T045516Z
LAST-MODIFIED:20251216T074906Z
UID:6897-1789257600-1789948799@tnbaptist.org
SUMMARY:Week of Prayer for State Missions/Golden Offering
DESCRIPTION:Churches across Tennessee pray for state missions and give to the Golden Offering for Tennessee Missions. This offering funds ministries that are aimed at reaching Tennesseans with the gospel while meeting various needs. \nFor more information\, CLICK HERE.
URL:https://tnbaptist.org/event/week-of-prayer-for-state-missions-golden-offering/
LOCATION:Statewide\, TN\, United States
CATEGORIES:Missions & Ministry,Woman's Missionary Union
ATTACH;FMTTYPE=image/webp:https://tnbaptist.org/wp-content/uploads/2025/09/GOTM-logo711x400.webp
ORGANIZER;CN="Vickie Anderson":MAILTO:vanderson@tnbaptist.org
END:VEVENT
BEGIN:VEVENT
DTSTART;TZID=UTC:20260916T110000
DTEND;TZID=UTC:20260916T120000
DTSTAMP:20260419T125834
CREATED:20260107T034612Z
LAST-MODIFIED:20260119T200820Z
UID:7489-1789556400-1789560000@tnbaptist.org
SUMMARY:Great Commission Conversations: Tennessee Missions
DESCRIPTION:Join us the third Wednesday of each month for a Great Commission Conversation via Zoom at 11:00am CST as we hear from international\, North American\, and state missionaries. \nThe virtual conversation will last approximately 30-45 minutes. After the live video conference meeting\, a recorded version of the meeting will be placed online for others to view. \nOn September 16\, 2026\, we will hear about missions in Tennessee.  \nREGISTER ONLINE
URL:https://tnbaptist.org/event/great-commission-conversations-tennessee-missions-9-16/
LOCATION:Online Event
CATEGORIES:Missions & Ministry,Woman's Missionary Union
ATTACH;FMTTYPE=image/webp:https://tnbaptist.org/wp-content/uploads/2025/10/great-comm-conv711x400.webp
ORGANIZER;CN="Vickie Anderson":MAILTO:vanderson@tnbaptist.org
END:VEVENT
BEGIN:VEVENT
DTSTART;VALUE=DATE:20260919
DTEND;VALUE=DATE:20260920
DTSTAMP:20260419T125834
CREATED:20251211T015024Z
LAST-MODIFIED:20251211T015333Z
UID:6889-1789776000-1789862399@tnbaptist.org
SUMMARY:Children's Missions Day
DESCRIPTION:Children’s Missions Day is a WMU day that encourages churches to get their children involved in missions. Churches can get involved by helping their children start service projects that serve their communities. For more information\, visit https://wmu.com/children/childrens-missions-day/.
URL:https://tnbaptist.org/event/childrens-missions-day/
LOCATION:Statewide\, TN\, United States
CATEGORIES:Children,Missions & Ministry,Woman's Missionary Union
ATTACH;FMTTYPE=image/webp:https://tnbaptist.org/wp-content/uploads/2025/10/wmu-children-missions-day711x400.webp
ORGANIZER;CN="Vickie Anderson":MAILTO:vanderson@tnbaptist.org
END:VEVENT
BEGIN:VEVENT
DTSTART;VALUE=DATE:20261008
DTEND;VALUE=DATE:20261013
DTSTAMP:20260419T125834
CREATED:20260206T195811Z
LAST-MODIFIED:20260206T195811Z
UID:8215-1791417600-1791849599@tnbaptist.org
SUMMARY:Denver Prayer Walking Mission Trip
DESCRIPTION:Tennessee WMU began a prayer advocacy partnership with Send Denver in 2014 with a desire to engage Tennessee Baptists in prayer for Denver. This has primarily been done by recruiting prayer partners\, sending prayer walking mission teams to Denver\, and hosting video conference meetings to hear from and pray for Denver church planters. \nIn 2026\, Tennessee WMU is sending a Prayer Walking Mission Team to Denver on October 8-12. The team will prayer walk\, encourage church planters\, and assist in community engagement activities. \n\nTeam members must fill out a Mission Volunteer Application\, a Release Form\, and a Health Form.\nAge requirement: 18 years old or older.\nTeam member costs will include:\n\nAirfare to/from Denver – team members book and pay for their own flights\n$150-200 for transportation in Denver and encouragement/ministry activities with missionaries\nLodging for four nights\nMeals – travel meals and meals in Denver\n\n\n\nContact Vickie Anderson at vanderson@tnbaptist.org if you are interested in being part of the team.
URL:https://tnbaptist.org/event/denver-prayer-walking-mission-trip/
LOCATION:Denver\, CO\, Denver\, CO\, United States
CATEGORIES:Missions & Ministry,Woman's Missionary Union
ATTACH;FMTTYPE=image/webp:https://tnbaptist.org/wp-content/uploads/2025/10/denver-nighttime711x400.webp
ORGANIZER;CN="Vickie Anderson":MAILTO:vanderson@tnbaptist.org
END:VEVENT
BEGIN:VEVENT
DTSTART;VALUE=DATE:20261018
DTEND;VALUE=DATE:20261019
DTSTAMP:20260419T125834
CREATED:20251211T012207Z
LAST-MODIFIED:20251211T012207Z
UID:6879-1792281600-1792367999@tnbaptist.org
SUMMARY:Day of Prayer for Baptist Associations
DESCRIPTION:Churches will pray for local Baptist associations and the work they are doing in communities across the nation.
URL:https://tnbaptist.org/event/day-of-prayer-for-baptist-associations/
LOCATION:Statewide\, TN\, United States
CATEGORIES:Missions & Ministry,Woman's Missionary Union
ATTACH;FMTTYPE=image/webp:https://tnbaptist.org/wp-content/uploads/2025/12/hands-bible-prayer-495538268.webp
ORGANIZER;CN="Vickie Anderson":MAILTO:vanderson@tnbaptist.org
END:VEVENT
BEGIN:VEVENT
DTSTART;TZID=UTC:20261021T110000
DTEND;TZID=UTC:20261021T120000
DTSTAMP:20260419T125834
CREATED:20260107T034619Z
LAST-MODIFIED:20260119T200822Z
UID:7490-1792580400-1792584000@tnbaptist.org
SUMMARY:Great Commission Conversations: Send Denver/Front Range
DESCRIPTION:Join us the third Wednesday of each month for a Great Commission Conversation via Zoom at 11:00am CST as we hear from international\, North American\, and state missionaries. \nThe virtual conversation will last approximately 30-45 minutes. After the live video conference meeting\, a recorded version of the meeting will be placed online for others to view. \nOn October 21\, 2026\, we will hear from a NAMB Send Denver/Front Range church planter. \nREGISTER ONLINE
URL:https://tnbaptist.org/event/great-commission-conversations-send-denver-front-range-10-21/
LOCATION:Online Event
CATEGORIES:Missions & Ministry,Woman's Missionary Union
ATTACH;FMTTYPE=image/webp:https://tnbaptist.org/wp-content/uploads/2025/10/great-comm-conv711x400.webp
ORGANIZER;CN="Vickie Anderson":MAILTO:vanderson@tnbaptist.org
END:VEVENT
END:VCALENDAR