BEGIN:VCALENDAR
VERSION:2.0
PRODID:-//Tennessee Baptist Mission Board - ECPv6.15.20//NONSGML v1.0//EN
CALSCALE:GREGORIAN
METHOD:PUBLISH
X-WR-CALNAME:Tennessee Baptist Mission Board
X-ORIGINAL-URL:https://tnbaptist.org
X-WR-CALDESC:Events for Tennessee Baptist Mission Board
REFRESH-INTERVAL;VALUE=DURATION:PT1H
X-Robots-Tag:noindex
X-PUBLISHED-TTL:PT1H
BEGIN:VTIMEZONE
TZID:America/Chicago
BEGIN:DAYLIGHT
TZOFFSETFROM:-0600
TZOFFSETTO:-0500
TZNAME:CDT
DTSTART:20250309T080000
END:DAYLIGHT
BEGIN:STANDARD
TZOFFSETFROM:-0500
TZOFFSETTO:-0600
TZNAME:CST
DTSTART:20251102T070000
END:STANDARD
BEGIN:DAYLIGHT
TZOFFSETFROM:-0600
TZOFFSETTO:-0500
TZNAME:CDT
DTSTART:20260308T080000
END:DAYLIGHT
BEGIN:STANDARD
TZOFFSETFROM:-0500
TZOFFSETTO:-0600
TZNAME:CST
DTSTART:20261101T070000
END:STANDARD
BEGIN:DAYLIGHT
TZOFFSETFROM:-0600
TZOFFSETTO:-0500
TZNAME:CDT
DTSTART:20270314T080000
END:DAYLIGHT
BEGIN:STANDARD
TZOFFSETFROM:-0500
TZOFFSETTO:-0600
TZNAME:CST
DTSTART:20271107T070000
END:STANDARD
END:VTIMEZONE
BEGIN:VEVENT
DTSTART;VALUE=DATE:20260514
DTEND;VALUE=DATE:20260515
DTSTAMP:20260419T124412
CREATED:20260209T162838Z
LAST-MODIFIED:20260209T163000Z
UID:8249-1778716800-1778803199@tnbaptist.org
SUMMARY:Toronto Prayer Walking Mission Trip
DESCRIPTION:TN WMU Prayer Walking Mission Team to Toronto – May 14-18\, 2026\nTennessee WMU is sending a Prayer Walking Mission Team to Toronto\, Ontario\, Canada\, to serve alongside IMB missionaries. The team will prayer walk\, encourage missionaries and local leaders\, and assist in community engagement. \nRequirements: \n\nComplete IMB application (questionnaire\, 3 references\, confidentiality document\, background check – $25)\nAge 18+\nValid passport book (passport cards won’t work for air travel)\n\nCosts (paid by team members): \n\nAirfare to/from Toronto\nSubway travel\, lodging (4 nights)\, and meals\n\nWhy Toronto: \n\nOne of the world’s most diverse cities – Greater Toronto Area population: 6.5 million\, with over 50% foreign-born (vs. 12% in Nashville)\nOnly 3% evangelical population\nOver 2 million residents speak a primary language other than English: 410\,000 speak Chinese\, 100\,000+ Tagalog\, 56\,000 Arabic\nGrowing populations of Buddhism\, Islam\, Sikhism\, Hinduism\, Judaism\, and other world religions\nLargest Tibetan population outside Tibet\n\nStatistics only glimpse the reality. Each community visit and ministry opportunity reveals a city full of stories and needs. The entire world is represented in Toronto\, including people from countries we cannot enter\, making this mission work have potential global impact. \nIMB partners with the Canadian National Baptist Convention\, North American Mission Board\, and Send Relief to plant churches and train local organizations in evangelism and discipleship. \nContact: Vickie Anderson at vanderson@tnbaptist.org
URL:https://tnbaptist.org/event/toronto-prayer-walking-mission-trip/
LOCATION:Toronto\, Tornonto\, Ontario\, Canada
CATEGORIES:Missions & Ministry,Woman's Missionary Union
ATTACH;FMTTYPE=image/webp:https://tnbaptist.org/wp-content/uploads/2026/02/toronto-skyline-2210387463.webp
ORGANIZER;CN="Vickie Anderson":MAILTO:vanderson@tnbaptist.org
END:VEVENT
END:VCALENDAR