BEGIN:VCALENDAR
VERSION:2.0
PRODID:-//Tennessee Baptist Mission Board - ECPv6.15.20//NONSGML v1.0//EN
CALSCALE:GREGORIAN
METHOD:PUBLISH
X-WR-CALNAME:Tennessee Baptist Mission Board
X-ORIGINAL-URL:https://tnbaptist.org
X-WR-CALDESC:Events for Tennessee Baptist Mission Board
REFRESH-INTERVAL;VALUE=DURATION:PT1H
X-Robots-Tag:noindex
X-PUBLISHED-TTL:PT1H
BEGIN:VTIMEZONE
TZID:UTC
BEGIN:STANDARD
TZOFFSETFROM:+0000
TZOFFSETTO:+0000
TZNAME:UTC
DTSTART:20250101T000000
END:STANDARD
END:VTIMEZONE
BEGIN:VTIMEZONE
TZID:America/Chicago
BEGIN:DAYLIGHT
TZOFFSETFROM:-0600
TZOFFSETTO:-0500
TZNAME:CDT
DTSTART:20250309T080000
END:DAYLIGHT
BEGIN:STANDARD
TZOFFSETFROM:-0500
TZOFFSETTO:-0600
TZNAME:CST
DTSTART:20251102T070000
END:STANDARD
BEGIN:DAYLIGHT
TZOFFSETFROM:-0600
TZOFFSETTO:-0500
TZNAME:CDT
DTSTART:20260308T080000
END:DAYLIGHT
BEGIN:STANDARD
TZOFFSETFROM:-0500
TZOFFSETTO:-0600
TZNAME:CST
DTSTART:20261101T070000
END:STANDARD
BEGIN:DAYLIGHT
TZOFFSETFROM:-0600
TZOFFSETTO:-0500
TZNAME:CDT
DTSTART:20270314T080000
END:DAYLIGHT
BEGIN:STANDARD
TZOFFSETFROM:-0500
TZOFFSETTO:-0600
TZNAME:CST
DTSTART:20271107T070000
END:STANDARD
END:VTIMEZONE
BEGIN:VEVENT
DTSTART;TZID=UTC:20260511T180000
DTEND;TZID=UTC:20260511T203000
DTSTAMP:20260422T165127
CREATED:20260106T051842Z
LAST-MODIFIED:20260122T221719Z
UID:7448-1778522400-1778531400@tnbaptist.org
SUMMARY:Ministry Couple's Night Out
DESCRIPTION:A significant part of serving well as a minister is enjoying family enrichment. Ministry brings its own unique challenges: the glass house\, unreasonable expectations on spouse and children\, living on a limited budget\, etc. Ministry can be all consuming. You just want a quiet night with your spouse and the phone rings with another urgent request for your presence. How can you cope with it all? Those are the kind of questions we will seek to address in our Ministry Couples Night Out. \nJoin us at one of the six locations for a free meal and a fun discussion. Find a babysitter\, reserve the date on your calendar\, and join other ministry couples for a night out. \nThe meal will begin at 6:00 and the event is scheduled to end by 8:30. \nREGISTER ONLINE
URL:https://tnbaptist.org/event/ministry-couples-night-out-5-11/
LOCATION:Belle Aire Baptist Church\, 1307 N Rutherford Blvd\, Murfreesboro\, TN\, United States
CATEGORIES:Church Leadership & Administration,Gospel Leaders,Missions & Ministry
ATTACH;FMTTYPE=image/webp:https://tnbaptist.org/wp-content/uploads/2026/01/ministry-couples-night-out711x400.webp
ORGANIZER;CN="Joe Sorah":MAILTO:jsorah@tnbaptist.org
END:VEVENT
BEGIN:VEVENT
DTSTART;VALUE=DATE:20260511
DTEND;VALUE=DATE:20260515
DTSTAMP:20260422T165127
CREATED:20251101T005437Z
LAST-MODIFIED:20251216T042440Z
UID:6046-1778457600-1778803199@tnbaptist.org
SUMMARY:Off the Grid - Pastors Motorcycle Tour
DESCRIPTION:The Off the Grid Motorcycle Tour will be a four-day\, three-night event. You will begin your tour at Linden Valley Baptist Conference Center with a morning breakfast and spend the next day traveling the rolling hills to the east side of the state. The second night you will stay half between Linden Valley and Carson Springs.  Wednesday evening you will arrive at Carson Springs Baptist Conference Center and enjoy a delicious dinning and relax around a quiet fire in the lobby with great fellowship. Breakfast Thursday morning is also included as you travel home. Each day pastors will experience new experiences on the road with good fellowship. The purpose is for each pastor to break away and disconnect from their everyday ministry to enjoy the outdoors and spend time with like-minded ministers. \n\nREGISTER ONLINE
URL:https://tnbaptist.org/event/off-the-grid-pastors-motorcycle-tour-5-11/
LOCATION:Linden Valley Baptist Conference Center\, 1225 Baptist Camp Rd\, Linden\, TN\, United States
CATEGORIES:Church Leadership & Administration,Conference Centers,Linden Valley,Off the Grid
ATTACH;FMTTYPE=image/webp:https://tnbaptist.org/wp-content/uploads/2025/10/off-the-grid711x400.webp
ORGANIZER;CN="Kevin Perrigan":MAILTO:kperrigan@tnbaptist.org
END:VEVENT
BEGIN:VEVENT
DTSTART;VALUE=DATE:20260508
DTEND;VALUE=DATE:20260510
DTSTAMP:20260422T165127
CREATED:20251101T004703Z
LAST-MODIFIED:20251216T042441Z
UID:6044-1778198400-1778371199@tnbaptist.org
SUMMARY:Off the Grid - Women Leadership Hike
DESCRIPTION:  \nExperience a two-day hike in the Great Smoky Mountains. You will spend one night at Carson Springs Baptist Conference Center and two meals and lunch Saturday. \nThe Andrews Bald hike is a 3.6-mile roundtrip\, moderate-difficulty trail in the Great Smoky Mountains National Park that starts at the Clingmans Dome parking lot. Hikers descend for the first 1.8 miles through a spruce-fir forest\, making the return trip uphill. The trail ends at a high-elevation grassy bald with scenic mountain views\, and is known for its wildflowers\, especially azaleas in the summer. \nMiddle Prong Trail is the best waterfall hike in the Smokies. The trail passes three major waterfalls\, in addition to numerous smaller falls\, cataracts and cascades. The trail begins at Lynn Camp Prong and the Thunderhead Prong\, at the point where the Middle Prong of the Little River officially begins. From the trailhead hikers will cross a metal footbridge over Lynn Camp Prong. Over the course of the first couple of miles you should keep an eye out for violets\, crested dwarf iris\, wood sorrel\, rue anemone\, foamflower\, toothwort and trilliums\, if you’re hiking in the spring and early summer months. \nAt four-tenths of a mile from the trailhead hikers will reach the Lower Lynn Camp Falls. This 35-foot\, multi-tiered waterfall is one of the more impressive falls in the park\, especially during the wetter months of the year. Indian Flats Falls\, will be your final destination on this hike. \nDuring this trip you will experience 2 days of beautiful scenery\, no cell phones and good fellowship with mission and ministry-minded women. For more information contact Kim Cruse @ kcruse@tnbaptist.org \n\nREGISTER ONLINE
URL:https://tnbaptist.org/event/off-the-grid-women-leadership-hike-5-08/
LOCATION:Carson Springs Baptist Conference Center\, 1120 Carson Springs Rd.\, Newport\, TN\, United States
CATEGORIES:Carson Springs,Church Leadership & Administration,Conference Centers,Discipleship,Missions & Ministry,Off the Grid,Woman's Missionary Union
ATTACH;FMTTYPE=image/webp:https://tnbaptist.org/wp-content/uploads/2025/10/off-the-grid711x400.webp
ORGANIZER;CN="Kim Cruse":MAILTO:kcruse@tnbaptist.org
END:VEVENT
BEGIN:VEVENT
DTSTART;TZID=UTC:20260505T180000
DTEND;TZID=UTC:20260505T203000
DTSTAMP:20260422T165127
CREATED:20260106T050154Z
LAST-MODIFIED:20260122T221643Z
UID:7447-1778004000-1778013000@tnbaptist.org
SUMMARY:Ministry Couple's Night Out
DESCRIPTION:A significant part of serving well as a minister is enjoying family enrichment. Ministry brings its own unique challenges: the glass house\, unreasonable expectations on spouse and children\, living on a limited budget\, etc. Ministry can be all consuming. You just want a quiet night with your spouse and the phone rings with another urgent request for your presence. How can you cope with it all? Those are the kind of questions we will seek to address in our Ministry Couples Night Out. \nJoin us at one of the six locations for a free meal and a fun discussion. Find a babysitter\, reserve the date on your calendar\, and join other ministry couples for a night out. \nThe meal will begin at 6:00 and the event is scheduled to end by 8:30. \nREGISTER ONLINE
URL:https://tnbaptist.org/event/ministry-couples-night-out-5-05/
LOCATION:Oak Grove Baptist Church\, 311 Cypress St\, Mount Carmel\, TN\, United States
CATEGORIES:Church Leadership & Administration,Gospel Leaders,Missions & Ministry
ATTACH;FMTTYPE=image/webp:https://tnbaptist.org/wp-content/uploads/2026/01/ministry-couples-night-out711x400.webp
ORGANIZER;CN="Joe Sorah":MAILTO:jsorah@tnbaptist.org
END:VEVENT
BEGIN:VEVENT
DTSTART;TZID=UTC:20260504T180000
DTEND;TZID=UTC:20260504T203000
DTSTAMP:20260422T165127
CREATED:20260106T043251Z
LAST-MODIFIED:20260122T221600Z
UID:7446-1777917600-1777926600@tnbaptist.org
SUMMARY:Ministry Couple's Night Out
DESCRIPTION:A significant part of serving well as a minister is enjoying family enrichment. Ministry brings its own unique challenges: the glass house\, unreasonable expectations on spouse and children\, living on a limited budget\, etc. Ministry can be all consuming. You just want a quiet night with your spouse and the phone rings with another urgent request for your presence. How can you cope with it all? Those are the kind of questions we will seek to address in our Ministry Couples Night Out. \nJoin us at one of the six locations for a free meal and a fun discussion. Find a babysitter\, reserve the date on your calendar\, and join other ministry couples for a night out. \nThe meal will begin at 6:00 and the event is scheduled to end by 8:30. \nREGISTER ONLINE
URL:https://tnbaptist.org/event/ministry-couples-night-out-5-04/
LOCATION:Salem Baptist Church\, 8201 Hill Rd\, Knoxville\, United States
CATEGORIES:Church Leadership & Administration,Gospel Leaders,Missions & Ministry
ATTACH;FMTTYPE=image/webp:https://tnbaptist.org/wp-content/uploads/2026/01/ministry-couples-night-out711x400.webp
ORGANIZER;CN="Joe Sorah":MAILTO:jsorah@tnbaptist.org
END:VEVENT
BEGIN:VEVENT
DTSTART;VALUE=DATE:20260503
DTEND;VALUE=DATE:20260507
DTSTAMP:20260422T165127
CREATED:20251101T004035Z
LAST-MODIFIED:20260401T184612Z
UID:6041-1777766400-1778111999@tnbaptist.org
SUMMARY:Off the Grid - Pastors Backpacking Trip
DESCRIPTION:Experience a three-day\, two-night backpacking trip on the Appalachian trail. You will experience approximately 4 miles each day of the seclusion of the backcountry of the Cherokee and Pisgah National Forest. We will hike a total of 12 miles. We will begin our journey on the Appalachian Trail at Spivey Gap (US 19w) 3\,200ft. We will stay our first night near Devils Creek Gap\, 3\,400ft. We will hike through several amazing views. The second night we will stay near Temple Hill Gap 2\,850ft. Both nights we will experience an open view of the sky. We will end our trip near the Nolichucky River at Oglesby Branch 1\,700ft. During this trip you will experience 3 days of beautiful scenery\, no cell phones and good fellowship with like-minded pastors. \nREGISTER ONLINE
URL:https://tnbaptist.org/event/off-the-grid-pastors-backpacking-trip-5-03/
LOCATION:Carson Springs Baptist Conference Center\, 1120 Carson Springs Rd.\, Newport\, TN\, United States
CATEGORIES:Carson Springs,Church Leadership & Administration,Conference Centers,Discipleship,Off the Grid
ATTACH;FMTTYPE=image/webp:https://tnbaptist.org/wp-content/uploads/2025/10/off-the-grid711x400.webp
ORGANIZER;CN="Kevin Perrigan":MAILTO:kperrigan@tnbaptist.org
END:VEVENT
BEGIN:VEVENT
DTSTART;TZID=America/Chicago:20260425T090000
DTEND;TZID=America/Chicago:20260425T130000
DTSTAMP:20260422T165127
CREATED:20260302T195045Z
LAST-MODIFIED:20260306T222219Z
UID:8554-1777107600-1777122000@tnbaptist.org
SUMMARY:Regional Bible Drill - West TN
DESCRIPTION:Children\, Youth\, and High School drillers who successfully complete their church and association drills are invited to participate in the respective Children’s\, Youth\, and High School Regional Drills. \nMORE BIBLE DRILL INFO
URL:https://tnbaptist.org/event/regional-bible-drill-west-tn/
LOCATION:Leawood East Baptist Church\, 1620 N Houston Levee Rd\, Cordova\, TN\, United States
CATEGORIES:Children,Discipleship,Evangelism,VBS
ATTACH;FMTTYPE=image/webp:https://tnbaptist.org/wp-content/uploads/2026/03/open-bible-hands-2152851417.webp
ORGANIZER;CN="Ryan Keaton":MAILTO:rkeaton@tnbaptist.org
END:VEVENT
BEGIN:VEVENT
DTSTART;TZID=America/Chicago:20260425T090000
DTEND;TZID=America/Chicago:20260425T130000
DTSTAMP:20260422T165127
CREATED:20260302T195036Z
LAST-MODIFIED:20260306T222037Z
UID:8553-1777107600-1777122000@tnbaptist.org
SUMMARY:Regional Bible Drill - Southwest TN
DESCRIPTION:Children\, Youth\, and High School drillers who successfully complete their church and association drills are invited to participate in the respective Children’s\, Youth\, and High School Regional Drills. \nMORE BIBLE DRILL INFO
URL:https://tnbaptist.org/event/regional-bible-drill-southwest-tn/
LOCATION:Mercer Baptist Church\, 1724 Hwy 138\, Mercer\, TN
CATEGORIES:Children,Discipleship,Evangelism,VBS
ATTACH;FMTTYPE=image/webp:https://tnbaptist.org/wp-content/uploads/2026/03/open-bible-hands-2152851417.webp
ORGANIZER;CN="Ryan Keaton":MAILTO:rkeaton@tnbaptist.org
END:VEVENT
BEGIN:VEVENT
DTSTART;TZID=America/Chicago:20260425T090000
DTEND;TZID=America/Chicago:20260425T130000
DTSTAMP:20260422T165127
CREATED:20260302T195024Z
LAST-MODIFIED:20260306T222039Z
UID:8552-1777107600-1777122000@tnbaptist.org
SUMMARY:Regional Bible Drill - Middle TN
DESCRIPTION:Children\, Youth\, and High School drillers who successfully complete their church and association drills are invited to participate in the respective Children’s\, Youth\, and High School Regional Drills. \nMORE BIBLE DRILL INFO
URL:https://tnbaptist.org/event/regional-bible-drill-middle-tn/
LOCATION:Columbia First Baptist Church\, 2790 Pulaski Hwy.\, Columbia\, TN\, United States
CATEGORIES:Children,Discipleship,Evangelism,VBS
ATTACH;FMTTYPE=image/webp:https://tnbaptist.org/wp-content/uploads/2026/03/open-bible-hands-2152851417.webp
ORGANIZER;CN="Ryan Keaton":MAILTO:rkeaton@tnbaptist.org
END:VEVENT
BEGIN:VEVENT
DTSTART;TZID=America/Chicago:20260425T090000
DTEND;TZID=America/Chicago:20260425T130000
DTSTAMP:20260422T165127
CREATED:20260302T195010Z
LAST-MODIFIED:20260306T222042Z
UID:8551-1777107600-1777122000@tnbaptist.org
SUMMARY:Regional Bible Drill - East TN
DESCRIPTION:Children\, Youth\, and High School drillers who successfully complete their church and association drills are invited to participate in the respective Children’s\, Youth\, and High School Regional Drills. \nMORE BIBLE DRILL INFO
URL:https://tnbaptist.org/event/regional-bible-drill-east-tn/
LOCATION:Wallace Memorial Baptist Church\, 701 Merchant Dr\, Knoxville\, TN\, United States
CATEGORIES:Children,Discipleship,Evangelism,VBS
ATTACH;FMTTYPE=image/webp:https://tnbaptist.org/wp-content/uploads/2026/03/open-bible-hands-2152851417.webp
ORGANIZER;CN="Ryan Keaton":MAILTO:rkeaton@tnbaptist.org
END:VEVENT
BEGIN:VEVENT
DTSTART;TZID=America/Chicago:20260425T090000
DTEND;TZID=America/Chicago:20260425T130000
DTSTAMP:20260422T165127
CREATED:20260302T195000Z
LAST-MODIFIED:20260306T222100Z
UID:8550-1777107600-1777122000@tnbaptist.org
SUMMARY:Regional Bible Drill - Northwest TN
DESCRIPTION:Children\, Youth\, and High School drillers who successfully complete their church and association drills are invited to participate in the respective Children’s\, Youth\, and High School Regional Drills. \nMORE BIBLE DRILL INFO
URL:https://tnbaptist.org/event/regional-bible-drill-northwest-tn/
LOCATION:Milan First Baptist Church\, Milan\, 2000 S 2nd St\, Milan\, TN\, United States
CATEGORIES:Children,Discipleship,Evangelism,VBS
ATTACH;FMTTYPE=image/webp:https://tnbaptist.org/wp-content/uploads/2026/03/open-bible-hands-2152851417.webp
ORGANIZER;CN="Ryan Keaton":MAILTO:rkeaton@tnbaptist.org
END:VEVENT
BEGIN:VEVENT
DTSTART;VALUE=DATE:20260423
DTEND;VALUE=DATE:20260426
DTSTAMP:20260422T165127
CREATED:20251110T060632Z
LAST-MODIFIED:20251216T043042Z
UID:6368-1776902400-1777161599@tnbaptist.org
SUMMARY:Off the Grid - Trail Evangelism
DESCRIPTION:Experience a unique way to share the Gospel to hundreds of men and women as they hike the Appalachian Trail. Approximately 2\,000 people a year attempt to complete the 2\,200 miles track on the Appalachian Trail from Georgia to Maine. We will set up locations along the AT while hikers attempt to arrive in Hot Springs NC before Trail Days. You will be able to hand out food\, water\, cut hair\, provide a warm fire\, hand out tracks\, a cup of coffee and share the gospel. We encourage you to bring baked goods and bottled water or soft drinks. The cost includes two nights stay at Carson Springs Conference Center and 5 meals. \n\nREGISTER ONLINE
URL:https://tnbaptist.org/event/off-the-grid-trail-evangelism/
LOCATION:Carson Springs Baptist Conference Center\, 1120 Carson Springs Rd.\, Newport\, TN\, United States
CATEGORIES:Carson Springs,Church Leadership & Administration,Conference Centers,Discipleship,Evangelism,Off the Grid
ATTACH;FMTTYPE=image/webp:https://tnbaptist.org/wp-content/uploads/2025/10/off-the-grid711x400.webp
ORGANIZER;CN="Kevin Perrigan":MAILTO:kperrigan@tnbaptist.org
END:VEVENT
END:VCALENDAR