BEGIN:VCALENDAR
VERSION:2.0
PRODID:-//Tennessee Baptist Mission Board - ECPv6.15.20//NONSGML v1.0//EN
CALSCALE:GREGORIAN
METHOD:PUBLISH
X-WR-CALNAME:Tennessee Baptist Mission Board
X-ORIGINAL-URL:https://tnbaptist.org
X-WR-CALDESC:Events for Tennessee Baptist Mission Board
REFRESH-INTERVAL;VALUE=DURATION:PT1H
X-Robots-Tag:noindex
X-PUBLISHED-TTL:PT1H
BEGIN:VTIMEZONE
TZID:America/Chicago
BEGIN:DAYLIGHT
TZOFFSETFROM:-0600
TZOFFSETTO:-0500
TZNAME:CDT
DTSTART:20250309T080000
END:DAYLIGHT
BEGIN:STANDARD
TZOFFSETFROM:-0500
TZOFFSETTO:-0600
TZNAME:CST
DTSTART:20251102T070000
END:STANDARD
BEGIN:DAYLIGHT
TZOFFSETFROM:-0600
TZOFFSETTO:-0500
TZNAME:CDT
DTSTART:20260308T080000
END:DAYLIGHT
BEGIN:STANDARD
TZOFFSETFROM:-0500
TZOFFSETTO:-0600
TZNAME:CST
DTSTART:20261101T070000
END:STANDARD
BEGIN:DAYLIGHT
TZOFFSETFROM:-0600
TZOFFSETTO:-0500
TZNAME:CDT
DTSTART:20270314T080000
END:DAYLIGHT
BEGIN:STANDARD
TZOFFSETFROM:-0500
TZOFFSETTO:-0600
TZNAME:CST
DTSTART:20271107T070000
END:STANDARD
END:VTIMEZONE
BEGIN:VEVENT
DTSTART;TZID=America/Chicago:20260415T110000
DTEND;TZID=America/Chicago:20260415T120000
DTSTAMP:20260420T002103
CREATED:20251218T030351Z
LAST-MODIFIED:20260119T200759Z
UID:7383-1776250800-1776254400@tnbaptist.org
SUMMARY:Great Commission Conversations - Tennessee Missions
DESCRIPTION:Join us the third Wednesday of each month for a Great Commission Conversation via Zoom at 11:00am CST as we hear from international\, North American\, and state missionaries. \nThe virtual conversation will last approximately 30-45 minutes. After the live video conference meeting\, a recorded version of the meeting will be placed online for others to view. \nOn April 15\, 2026\, we will hear about missions in Tennessee.  \nREGISTER ONLINE
URL:https://tnbaptist.org/event/great-commission-conversations-tennessee-missions/
LOCATION:Online Event
CATEGORIES:Missions & Ministry,Woman's Missionary Union
ATTACH;FMTTYPE=image/webp:https://tnbaptist.org/wp-content/uploads/2025/10/great-comm-conv711x400.webp
ORGANIZER;CN="Vickie Anderson":MAILTO:vanderson@tnbaptist.org
END:VEVENT
BEGIN:VEVENT
DTSTART;TZID=America/Chicago:20260414T100000
DTEND;TZID=America/Chicago:20260414T140000
DTSTAMP:20260420T002103
CREATED:20260206T225444Z
LAST-MODIFIED:20260302T224427Z
UID:8224-1776160800-1776175200@tnbaptist.org
SUMMARY:Learning to Pray with Abandon
DESCRIPTION:Prayer is often described as the lifeblood of the Christian faith—a direct line of communication with God. To pray with abandon is to approach God with complete openness and vulnerability. \nScripture offers numerous examples: King David pouring out his soul in the Psalms\, Hannah weeping bitterly before the Lord\, and Jesus praying with such intensity in Gethsemane. These prayers were raw\, real\, and powerful. \nIn prayer\, it’s easy to focus on our needs\, desires\, and requests. While God invites us to bring our petitions before Him\, there is a deeper invitation. Looking at the Lord’s Prayer\, we read\, “Our Father\, who art in heaven\, Hallowed be thy Name.” To seek God’s face is to pursue His presence\, character\, and heart above all else. It’s the difference between wanting what God can give us and wanting God Himself. \nThis training is for pastors\, ministers\, and laypersons. \nREGISTER ONLINE
URL:https://tnbaptist.org/event/learning-to-pray-with-abandon-4-14/
LOCATION:Madison-Chester Baptist Association\, 2035 North Parkway\, Jackson\, TN\, United States
CATEGORIES:Church Leadership & Administration,Discipleship,Missions & Ministry
ATTACH;FMTTYPE=image/webp:https://tnbaptist.org/wp-content/uploads/2026/02/hand-praying-orange-light-1484095487.webp
ORGANIZER;CN="Nancy Duggin":MAILTO:nduggin@tnbaptist.org
END:VEVENT
END:VCALENDAR