BEGIN:VCALENDAR
VERSION:2.0
PRODID:-//Tennessee Baptist Mission Board - ECPv6.15.20//NONSGML v1.0//EN
CALSCALE:GREGORIAN
METHOD:PUBLISH
X-WR-CALNAME:Tennessee Baptist Mission Board
X-ORIGINAL-URL:https://tnbaptist.org
X-WR-CALDESC:Events for Tennessee Baptist Mission Board
REFRESH-INTERVAL;VALUE=DURATION:PT1H
X-Robots-Tag:noindex
X-PUBLISHED-TTL:PT1H
BEGIN:VTIMEZONE
TZID:UTC
BEGIN:STANDARD
TZOFFSETFROM:+0000
TZOFFSETTO:+0000
TZNAME:UTC
DTSTART:20260101T000000
END:STANDARD
END:VTIMEZONE
BEGIN:VEVENT
DTSTART;TZID=UTC:20271114T180000
DTEND;TZID=UTC:20271117T120000
DTSTAMP:20260420T001229
CREATED:20251121T033302Z
LAST-MODIFIED:20251216T074516Z
UID:6432-1826215200-1826452800@tnbaptist.org
SUMMARY:Summit: The Gathering of Tennessee Baptists
DESCRIPTION:  \nThe Summit is the annual gathering of Tennessee Baptists. You probably know it as the Tennessee Baptist Convention. The Summit includes the Pastors Conference\, the annual meeting\, and everything in between.\nQuestions?\nGeneral Questions\n👤 Samantha Bligh\n📞 (615) 371-7933\n✉️ sbligh@tnbaptist.org \n  \nRegistration\n👤 Haley Rittenberry\n📞 (629) 236-6130\n✉️ hrittenberry@tnbaptist.org \n  \nExhibit Hall\n👤 Sharlyn Ricks\n📞 (615) 371-2016\n✉️ sricks@tnbaptist.org \nFuture Summits\n\n\nNovember 14 – 17\, 2027: Hendersonville First Baptist Church\, Hendersonville\n\n\nNovember 12 – 15\, 2028: Germantown Baptist Church\, Germantown\n\n\nNovember 11 – 14\, 2029: Cleveland First Baptist Church\, Cleveland
URL:https://tnbaptist.org/event/summit2027/
LOCATION:Hendersonville First Baptist Church\, 106 Bluegrass Commons Blvd\, Hendersonville\, TN\, United States
CATEGORIES:Church Leadership & Administration,Evangelism,Featured
ATTACH;FMTTYPE=image/webp:https://tnbaptist.org/wp-content/uploads/2025/10/Summit_Logo.webp
ORGANIZER;CN="Samantha Bligh":MAILTO:sbligh@tnbaptist.org
END:VEVENT
BEGIN:VEVENT
DTSTART;TZID=UTC:20281112T180000
DTEND;TZID=UTC:20281115T120000
DTSTAMP:20260420T001229
CREATED:20251121T033414Z
LAST-MODIFIED:20251216T074514Z
UID:6436-1857664800-1857902400@tnbaptist.org
SUMMARY:Summit: The Gathering of Tennessee Baptists
DESCRIPTION:  \nThe Summit is the annual gathering of Tennessee Baptists. You probably know it as the Tennessee Baptist Convention. The Summit includes the Pastors Conference\, the annual meeting\, and everything in between.\nQuestions?\nGeneral Questions\n👤 Samantha Bligh\n📞 (615) 371-7933\n✉️ sbligh@tnbaptist.org \n  \nRegistration\n👤 Haley Rittenberry\n📞 (629) 236-6130\n✉️ hrittenberry@tnbaptist.org \n  \nExhibit Hall\n👤 Sharlyn Ricks\n📞 (615) 371-2016\n✉️ sricks@tnbaptist.org \nFuture Summits\n\n\nNovember 14 – 17\, 2027: Hendersonville First Baptist Church\, Hendersonville\n\n\nNovember 12 – 15\, 2028: Germantown Baptist Church\, Germantown\n\n\nNovember 11 – 14\, 2029: Cleveland First Baptist Church\, Cleveland
URL:https://tnbaptist.org/event/summit2028/
LOCATION:Germantown Baptist Church\, 9450 Poplar Ave\, Germantown\, TN\, United States
CATEGORIES:Church Leadership & Administration,Evangelism,Featured
ATTACH;FMTTYPE=image/webp:https://tnbaptist.org/wp-content/uploads/2025/10/Summit_Logo.webp
ORGANIZER;CN="Samantha Bligh":MAILTO:sbligh@tnbaptist.org
END:VEVENT
BEGIN:VEVENT
DTSTART;TZID=UTC:20291111T180000
DTEND;TZID=UTC:20291114T120000
DTSTAMP:20260420T001229
CREATED:20251121T033556Z
LAST-MODIFIED:20251216T074513Z
UID:6439-1889114400-1889352000@tnbaptist.org
SUMMARY:Summit: The Gathering of Tennessee Baptists
DESCRIPTION:  \nThe Summit is the annual gathering of Tennessee Baptists. You probably know it as the Tennessee Baptist Convention. The Summit includes the Pastors Conference\, the annual meeting\, and everything in between.\nQuestions?\nGeneral Questions\n👤 Samantha Bligh\n📞 (615) 371-7933\n✉️ sbligh@tnbaptist.org\n  \nRegistration\n👤 Haley Rittenberry\n📞 (629) 236-6130\n✉️ hrittenberry@tnbaptist.org\n  \nExhibit Hall\n👤 Sharlyn Ricks\n📞 (615) 371-2016\n✉️ sricks@tnbaptist.org \nFuture Summits\n\n\nNovember 14 – 17\, 2027: Hendersonville First Baptist Church\, Hendersonville\n\nNovember 12 – 15\, 2028: Germantown Baptist Church\, Germantown\n\nNovember 11 – 14\, 2029: Cleveland First Baptist Church\, Cleveland
URL:https://tnbaptist.org/event/summit2029/
LOCATION:Cleveland First Baptist Church\, 1275 Stuart Rd NE\, Cleveland\, TN\, United States
CATEGORIES:Church Leadership & Administration,Evangelism,Featured
ATTACH;FMTTYPE=image/webp:https://tnbaptist.org/wp-content/uploads/2025/10/Summit_Logo.webp
ORGANIZER;CN="Samantha Bligh":MAILTO:sbligh@tnbaptist.org
END:VEVENT
END:VCALENDAR