BEGIN:VCALENDAR
VERSION:2.0
PRODID:-//Tennessee Baptist Mission Board - ECPv6.15.20//NONSGML v1.0//EN
CALSCALE:GREGORIAN
METHOD:PUBLISH
X-ORIGINAL-URL:https://tnbaptist.org
X-WR-CALDESC:Events for Tennessee Baptist Mission Board
REFRESH-INTERVAL;VALUE=DURATION:PT1H
X-Robots-Tag:noindex
X-PUBLISHED-TTL:PT1H
BEGIN:VTIMEZONE
TZID:America/Chicago
BEGIN:DAYLIGHT
TZOFFSETFROM:-0600
TZOFFSETTO:-0500
TZNAME:CDT
DTSTART:20250309T080000
END:DAYLIGHT
BEGIN:STANDARD
TZOFFSETFROM:-0500
TZOFFSETTO:-0600
TZNAME:CST
DTSTART:20251102T070000
END:STANDARD
BEGIN:DAYLIGHT
TZOFFSETFROM:-0600
TZOFFSETTO:-0500
TZNAME:CDT
DTSTART:20260308T080000
END:DAYLIGHT
BEGIN:STANDARD
TZOFFSETFROM:-0500
TZOFFSETTO:-0600
TZNAME:CST
DTSTART:20261101T070000
END:STANDARD
BEGIN:DAYLIGHT
TZOFFSETFROM:-0600
TZOFFSETTO:-0500
TZNAME:CDT
DTSTART:20270314T080000
END:DAYLIGHT
BEGIN:STANDARD
TZOFFSETFROM:-0500
TZOFFSETTO:-0600
TZNAME:CST
DTSTART:20271107T070000
END:STANDARD
END:VTIMEZONE
BEGIN:VTIMEZONE
TZID:UTC
BEGIN:STANDARD
TZOFFSETFROM:+0000
TZOFFSETTO:+0000
TZNAME:UTC
DTSTART:20250101T000000
END:STANDARD
END:VTIMEZONE
BEGIN:VEVENT
DTSTART;TZID=America/Chicago:20260711T090000
DTEND;TZID=America/Chicago:20260711T163000
DTSTAMP:20260422T235839
CREATED:20260220T194228Z
LAST-MODIFIED:20260414T152828Z
UID:8382-1783760400-1783787400@tnbaptist.org
SUMMARY:Weekday Early Education Conference
DESCRIPTION:Annual statewide training for directors and teachers in Weekday Early Education and Preschool ministries.\nSaturday\, July 11\, 2026\n9:00 AM – 4:30 PM Central Time \nGrace Baptist Church\n1510 Old Hickory Blvd.\, Nashville \n\nAbout the Conference\nThis conference is open to directors and teachers of any part-time or full-time preschool program. Valuable training is available for anyone working with preschoolers — regardless of the type of program or curriculum used. \nThe conference schedule provides six (6) hours of approved professional development clock hours\, approved through TrainTN. \n\nRegistration Fees\n\n\n\nRegistration Period\nFee Per Person\n\n\n\n\nBy June 2\, 2026 (Early Bird)\n$75\n\n\nAfter June 2\, 2026\n$85\n\n\n\nREGISTER ONLINE \nRefund Policy: No refunds after July 1\, 2026. However\, your registration fee may be transferred to another member of your group. \nContact\nConference Coordinator\nCarol Pratt\ncpratt@tnbaptist.org \nRegistration Questions\nSharlyn Ricks\nsricks@tnbaptist.org
URL:https://tnbaptist.org/event/weekday-early-education-conference/
LOCATION:Grace Baptist Church Nashville\, 1510 Old Hickory Blvd\, Nashville\, TN\, United States
CATEGORIES:Children,Discipleship,Evangelism
ATTACH;FMTTYPE=image/webp:https://tnbaptist.org/wp-content/uploads/2026/02/child-handprints-2183533406.webp
ORGANIZER;CN="Ryan Keaton":MAILTO:rkeaton@tnbaptist.org
END:VEVENT
BEGIN:VEVENT
DTSTART;VALUE=DATE:20260817
DTEND;VALUE=DATE:20260821
DTSTAMP:20260422T235839
CREATED:20251101T012608Z
LAST-MODIFIED:20260414T152846Z
UID:6062-1786924800-1787270399@tnbaptist.org
SUMMARY:Off the Grid - Major League Baseball Tour
DESCRIPTION:  \nDo you like attending Major League Baseball games and seeing beautiful ballparks and cities? Come join other ministers on a four-day excursion of 3 games in 3 cities. The game schedule will be: \n\nMonday\, August 17 St Louis Cardinals at the Cincinnati Reds\nTuesday\, August 18 Detroit Tigers at the Pittsburgh Pirates\nWednesday\, August 19 San Fransisco Giants at the Cleveland Guardians\n\nProjected games and hotel cost based on 2 to a room should be around $700\, with transportation costs to be determined. Group size will be limited to the first 24 that sign up. \nPayment Information: \n\n$100 deposit required when you register\nJuly 1st – balance paid in full\nNo cancellation after July 1st\n\nFor more information\, please contact Joe Sorah at 423-895-1481 or email at jsorah@tnbaptist.org. \nREGISTER ONLINE
URL:https://tnbaptist.org/event/off-the-grid-major-league-baseball-tour-8-17/
LOCATION:TN
CATEGORIES:Church Leadership & Administration,Conference Centers,Discipleship,Off the Grid
ATTACH;FMTTYPE=image/webp:https://tnbaptist.org/wp-content/uploads/2025/10/off-the-grid711x400.webp
ORGANIZER;CN="Joe Sorah":MAILTO:jsorah@tnbaptist.org
END:VEVENT
BEGIN:VEVENT
DTSTART;VALUE=DATE:20260818
DTEND;VALUE=DATE:20260826
DTSTAMP:20260422T235839
CREATED:20251101T013721Z
LAST-MODIFIED:20251216T042437Z
UID:6068-1787011200-1787702399@tnbaptist.org
SUMMARY:Off the Grid - Pastors Backpacking Trip Rocky Mountains
DESCRIPTION:The Off the Grid Rocky Mountain trip is an opportunity for those that have some backpacking experience. We will fly into Denver on August 18th. We will spend one day working with a church planter. We will have the opportunity to encourage the pastor as well as help in his ministry for a day. We will spend Aug 20 through Aug 23rd on “4 Pass Loop”. The head of the trail is south of Aspen. \nFour Pass Loop is a backpacking trip through the striking Maroon Bells-Snowmass Wilderness. The route gets its name from the four 12\,000 ft. passes it traverses: Buckskin\, Trail Rider\, Frigid Air\, and West Maroon. Many hikers take 3-4 days to complete this loop\, with optional side trips to Geneva Lake and Willow Pass. You’ll pass through meadows covered in wildflowers\, alpine lakes\, lush forests\, and exposed rocky passes. \nAug 24th will be a debrief and rest day. We will fly back home on the 25th. There will be a limited number of participants. The max number will be 10 but there is a waiting list. \n\nREGISTER ONLINE
URL:https://tnbaptist.org/event/off-the-grid-pastors-backpacking-trip-rocky-mountains-8-18/
LOCATION:Denver\, CO\, Denver\, CO\, United States
CATEGORIES:Church Leadership & Administration,Conference Centers,Discipleship,Off the Grid
ATTACH;FMTTYPE=image/webp:https://tnbaptist.org/wp-content/uploads/2025/10/off-the-grid711x400.webp
ORGANIZER;CN="Kevin Perrigan":MAILTO:kperrigan@tnbaptist.org
END:VEVENT
BEGIN:VEVENT
DTSTART;VALUE=DATE:20260831
DTEND;VALUE=DATE:20260903
DTSTAMP:20260422T235839
CREATED:20251110T061652Z
LAST-MODIFIED:20251216T043041Z
UID:6370-1788134400-1788393599@tnbaptist.org
SUMMARY:Off the Grid - Pastors Wives Backpacking Trip
DESCRIPTION:Experience a three-day\, two-night backpacking trip on the Appalachian trail. You will experience approximately 6.7 miles each day of the seclusion of the backcountry of the Cherokee and Pisgah National Forest. We will hike a total of 20.3 miles. We will begin our journey on the Appalachian Trail at Devil Fork Gap at 3\,300 ft. We will stay our first night near Big Butt at 5\,000 ft. Big Butt is a panoramic view of 360 degrees. You will be able to see our next campsite from that point which will be 6.7 miles away. We will hike through several open fields with amazing views. The second night we will stay near Camp Creek Bald @ 4\,900 ft. Both nights we will experience an open view of the sky. We will see several shelters and many incredible vista views. We will end our trip at Allen Gap at 2\,300 ft. During this trip you will experience 3 days of beautiful scenery\, no cell phones and good fellowship with like-minded pastors’ wives. \n\nREGISTER ONLINE
URL:https://tnbaptist.org/event/off-the-grid-pastors-wives-backpacking-trip-8-31/
LOCATION:Carson Springs Baptist Conference Center\, 1120 Carson Springs Rd.\, Newport\, TN\, United States
CATEGORIES:Carson Springs,Church Leadership & Administration,Conference Centers,Discipleship,Off the Grid
ATTACH;FMTTYPE=image/webp:https://tnbaptist.org/wp-content/uploads/2025/10/off-the-grid711x400.webp
ORGANIZER;CN="Kevin Perrigan":MAILTO:kperrigan@tnbaptist.org
END:VEVENT
BEGIN:VEVENT
DTSTART;VALUE=DATE:20260911
DTEND;VALUE=DATE:20260914
DTSTAMP:20260422T235839
CREATED:20260206T231100Z
LAST-MODIFIED:20260414T211635Z
UID:8234-1789084800-1789343999@tnbaptist.org
SUMMARY:Connection
DESCRIPTION:A weekend missions discipleship event for girls in grades 6–12\nBring your youth girls\, your daughter/granddaughter and a couple of her friends\, or just bring her! \nThe weekend is designed to mingle groups together so that no one will feel left out. \nWhat’s Included\n\nWorship\nBible teaching sessions\nGetting to know a missionary and the country/people she is reaching\nGames\nPrayer times\nBreakout sessions\nAnd more!\n\nThis Year’s Theme: GIFTED\nGIFTED is designed to help your girls see how God has uniquely gifted them to be involved\nin the Great Commission. They will gain an understanding of how their spiritual gifts\, personality\,\ninterests\, experiences\, and talents can be used for God’s kingdom! \nMore info coming soon!
URL:https://tnbaptist.org/event/connection/
LOCATION:Tennessee Tech University BCM\, 106 West 7th Street\, Cookeville\, TN
CATEGORIES:Children,Discipleship,Missions & Ministry,Woman's Missionary Union,Worship & Music,Youth
ATTACH;FMTTYPE=image/webp:https://tnbaptist.org/wp-content/uploads/2026/02/Connection2026_Gifted_1280x720.webp
ORGANIZER;CN="Kim Cruse":MAILTO:kcruse@tnbaptist.org
END:VEVENT
BEGIN:VEVENT
DTSTART;VALUE=DATE:20260921
DTEND;VALUE=DATE:20260925
DTSTAMP:20260422T235839
CREATED:20251110T071741Z
LAST-MODIFIED:20251216T043040Z
UID:6372-1789948800-1790294399@tnbaptist.org
SUMMARY:Off the Grid - Pastors Motorcycle Tour
DESCRIPTION:The Off the Grid Motorcycle Tour will be a three-day\, three-night event. Each Pastor will stay all three nights at Carson Springs Conference Center and enjoy breakfast and dinner each day during their stay. They will arrive Monday evening after dinner for some fellowship time. Tuesday & Wednesday morning\, they will enjoy breakfast at Carson Sprigs then on the road for lunch and on a tour of the mountains of east Tennessee. They will explore new restaurants each day to gather for lunch. After a leisurely ride they will come back to Carson Springs for dinner each evening and a time gathering around the fire in the conference center lobby to share stories. Each day pastors will experience new experiences on the road with good fellowship. Thursday morning after breakfast they will depart for home. The purpose is for each pastor to break away and disconnect from their everyday ministry to enjoy the outdoors and spend time with like-minded ministers. \n\nREGISTER ONLINE
URL:https://tnbaptist.org/event/off-the-grid-pastors-motorcycle-tour-9-21/
LOCATION:Carson Springs Baptist Conference Center\, 1120 Carson Springs Rd.\, Newport\, TN\, United States
CATEGORIES:Carson Springs,Church Leadership & Administration,Conference Centers,Discipleship,Off the Grid
ATTACH;FMTTYPE=image/webp:https://tnbaptist.org/wp-content/uploads/2025/10/off-the-grid711x400.webp
ORGANIZER;CN="Kevin Perrigan":MAILTO:kperrigan@tnbaptist.org
END:VEVENT
BEGIN:VEVENT
DTSTART;VALUE=DATE:20260928
DTEND;VALUE=DATE:20261001
DTSTAMP:20260422T235839
CREATED:20251110T073715Z
LAST-MODIFIED:20251216T042436Z
UID:6374-1790553600-1790812799@tnbaptist.org
SUMMARY:Off the Grid - Pastors Golf Tour
DESCRIPTION:The Off the Grid Golf Tour will be a three-day\, two-night event. You will enjoy playing on a different golf course each day. Each Pastor will stay two nights at Carson Springs Baptist Conference Center and enjoy breakfast and dinner each day during their stay. They will arrive Monday morning at your first course (Patriot Hills Golf Course). Later that afternoon you will check in to the conference center at Carson Springs where you will have a delicious dinner and great fellowship. Day two\, you will wake to a full breakfast and then off to (Graysburg Hills Golf Course). You will come back to Carson Springs for another delicious meal and then relax in the setting of English Mountain. On day three\, you will start with your final breakfast at Carson Springs and then on to (Dandridge Country Club).  Each day pastors will experience great fun and relaxation while playing on three great courses. The purpose of the Off the Grid Golf Tour is for each pastor to break away and disconnect from their everyday ministry to enjoy the outdoors and spend time with like-minded ministers. Cost includes 2 nights in the conference center\, 4 meals and 3 course/cart fees. \n\nREGISTER ONLINE
URL:https://tnbaptist.org/event/off-the-grid-pastors-golf-tour-9-28/
LOCATION:Carson Springs Baptist Conference Center\, 1120 Carson Springs Rd.\, Newport\, TN\, United States
CATEGORIES:Carson Springs,Church Leadership & Administration,Conference Centers,Discipleship,Off the Grid
ATTACH;FMTTYPE=image/webp:https://tnbaptist.org/wp-content/uploads/2025/10/off-the-grid711x400.webp
ORGANIZER;CN="Kevin Perrigan":MAILTO:kperrigan@tnbaptist.org
END:VEVENT
BEGIN:VEVENT
DTSTART;VALUE=DATE:20261005
DTEND;VALUE=DATE:20261008
DTSTAMP:20260422T235839
CREATED:20251110T074200Z
LAST-MODIFIED:20251216T042435Z
UID:6376-1791158400-1791417599@tnbaptist.org
SUMMARY:Off the Grid - Pastors Golf Tour
DESCRIPTION:The Off the Grid Golf Tour will be a three-day\, two-night event. You will enjoy playing on a different golf course each day. Each Pastor will stay two nights at Linden Valley Baptist Conference Center and enjoy breakfast and dinner each day during their stay. They will arrive Monday morning at your first course (Tennessee River Golf Club). Later that afternoon you will check in to the conference center at Linden Valley where you will have a delicious dinner and great followship. Day two\, you will wake up to a full breakfast and then off to (Pickwick Landing) in the middle of Pickwick Landing State Park. You will come back to Linden Valley for another delicious meal and then relax in the setting of Buffalo River. On day three\, you will start with your final breakfast at Linden Valley and then on to (Ross Creek).  Each day pastors will experience great fun and relaxation of playing on great courses. The purpose of the Off the Grid Golf Tour is for each pastor to break away and disconnect from their everyday ministry to enjoy the outdoors and spend time with like-minded ministers. Cost includes 2 nights in the conference center\, 4 meals and 3 course/cart fees. \n\nREGISTER ONLINE
URL:https://tnbaptist.org/event/off-the-grid-pastors-golf-tour-10-05/
LOCATION:Linden Valley Baptist Conference Center\, 1225 Baptist Camp Rd\, Linden\, TN\, United States
CATEGORIES:Church Leadership & Administration,Conference Centers,Discipleship,Linden Valley,Off the Grid
ATTACH;FMTTYPE=image/webp:https://tnbaptist.org/wp-content/uploads/2025/10/off-the-grid711x400.webp
ORGANIZER;CN="Kevin Perrigan":MAILTO:kperrigan@tnbaptist.org
END:VEVENT
BEGIN:VEVENT
DTSTART;VALUE=DATE:20261019
DTEND;VALUE=DATE:20261022
DTSTAMP:20260422T235839
CREATED:20251110T231723Z
LAST-MODIFIED:20251216T042433Z
UID:6378-1792368000-1792627199@tnbaptist.org
SUMMARY:Off the Grid - Pastors Backpacking Trip
DESCRIPTION:Experience a three-day\, two-night backpacking trip on the Appalachian trail. You will experience approximately 4 miles each day of the seclusion of the backcountry of the Cherokee and Pisgah National Forest. We will hike a total of 12 miles. We will begin our journey on the Appalachian Trail at Spivey Gap (US 19w) 3\,200ft. We will stay our first night near Devils Creek Gap 3\,400ft. We will hike through several amazing views. The second night we will stay near Temple Hill Gap 2\,850ft. Both nights we will experience an open view of the sky. We will end our trip near the Nolichucky river at Oglesby Branch 1\,700ft. During this trip you will experience 3 days of beautiful scenery\, no cell phones and good fellowship with like-minded pastors. \n\nREGISTER ONLINE
URL:https://tnbaptist.org/event/off-the-grid-pastors-backpacking-trip-10-19/
LOCATION:Carson Springs Baptist Conference Center\, 1120 Carson Springs Rd.\, Newport\, TN\, United States
CATEGORIES:Carson Springs,Church Leadership & Administration,Conference Centers,Discipleship,Off the Grid
ATTACH;FMTTYPE=image/webp:https://tnbaptist.org/wp-content/uploads/2025/10/off-the-grid711x400.webp
ORGANIZER;CN="Kevin Perrigan":MAILTO:kperrigan@tnbaptist.org
END:VEVENT
END:VCALENDAR