BEGIN:VCALENDAR
VERSION:2.0
PRODID:-//Tennessee Baptist Mission Board - ECPv6.15.20//NONSGML v1.0//EN
CALSCALE:GREGORIAN
METHOD:PUBLISH
X-ORIGINAL-URL:https://tnbaptist.org
X-WR-CALDESC:Events for Tennessee Baptist Mission Board
REFRESH-INTERVAL;VALUE=DURATION:PT1H
X-Robots-Tag:noindex
X-PUBLISHED-TTL:PT1H
BEGIN:VTIMEZONE
TZID:UTC
BEGIN:STANDARD
TZOFFSETFROM:+0000
TZOFFSETTO:+0000
TZNAME:UTC
DTSTART:20250101T000000
END:STANDARD
END:VTIMEZONE
BEGIN:VEVENT
DTSTART;VALUE=DATE:20260420
DTEND;VALUE=DATE:20260423
DTSTAMP:20260419T082139
CREATED:20260108T004500Z
LAST-MODIFIED:20260414T144452Z
UID:7521-1776643200-1776902399@tnbaptist.org
SUMMARY:Tennessee Baptist State Secretaries Conference
DESCRIPTION:THIS EVENT HAS BEEN CANCELED. \nJoin us for a 3-day statewide conference designed specifically for church\, associational\, and denominational ministry assistants. This event focuses on encouraging professional\, personal\, and spiritual development as we live out Matthew 5:16. \nEVENT SCHEDULE \nConference Registration\nEarly Bird Rate: $150 (if registered by February 16\, 2026)\nRegular Rate: $175 (after February 16\, 2026) \nRegistration Deadline: April 1\, 2026\nPlease note: NO refunds after March 1\, 2026 \nREGISTER ONLINE \nWhat’s Included\nYour registration fee includes: \n\nTBSA membership dues (2 years)\nLunch on Monday\nBanquet on Tuesday (lunch)\nConference materials\n\nHOTEL INFO \nDon’t miss this opportunity to connect\, grow\, and be encouraged alongside fellow ministry assistants. We look forward to seeing you there!
URL:https://tnbaptist.org/event/tennessee-baptist-state-secretaries-conference/
LOCATION:Victory Baptist Church\, 1777 Tate Ln\, Mt. Juliet\, TN\, United States
CATEGORIES:Church Leadership & Administration,Gospel Leaders,Missions & Ministry
ATTACH;FMTTYPE=image/webp:https://tnbaptist.org/wp-content/uploads/2025/10/canceled-one-L711x400.webp
ORGANIZER;CN="Heather Beard":MAILTO:hbeard@tnbaptist.org
END:VEVENT
END:VCALENDAR